BEGIN:VCALENDAR
VERSION:2.0
PRODID:-//NewCountry.nl//NONSGML kigkonsult.se iCalcreator 2.30.10//
CALSCALE:GREGORIAN
METHOD:PUBLISH
UID:edb3696c-53d5-4c32-bbb0-0ec9864b9d26
X-WR-CALNAME:iCagenda
X-WR-CALDESC:Event Management Extension for Joomla!
X-WR-RELCALID:3E26604A-50F4-4449-8B3E-E4F4932D05B5
X-WR-TIMEZONE:UTC
BEGIN:VTIMEZONE
TZID:UTC
END:VTIMEZONE
BEGIN:VEVENT
UID:04b21bd1-9570-47e2-b866-e178d2d2ee72
DTSTAMP:20260423T194507Z
CATEGORIES:Concertagenda
CLASS:PUBLIC
DESCRIPTION;ALTREP="CID:<FFFF__=0ABBE548DFE235B58f9e8a93d@coffeebean.com>":
 Het Amerikaanse duo The War And Treaty maakt een energieke mix van soul\, 
 folk\, gospel en country. Behalve muzikale partners zijn de twee leden\, M
 ichael Trotter Jr. en Tanya Trotter\, ook huwelijkspartners (een dankbare 
 bron voor hun songteksten). Sinds hun debuutalbum&nbsp\;Healing Tide&nbsp\
 ;uit 2018 hebben ze hun geluid verder uitgediept op veelgeprezen platen al
 s&nbsp\;Hearts Town&nbsp\;en het recente&nbsp\;Lover's Game\, waarmee ze d
 efinitief hun plek aan de top hebben gevestigd.\nOf het nu gaat om een bre
 ekbare ballad of een opzwepend soul-nummer\, The War and Treaty brengt een
  eerbetoon aan de rijke Amerikaanse muziekgeschiedenis met een moderne urg
 entie die je direct in het hart raakt.\n\n&nbsp\;
DTSTART:20260706T190000Z
DTEND:20260706T190000Z
GEO:00;0
LOCATION:Tolhuistuin
ORGANIZER:
SEQUENCE:1
SUMMARY:The War and Treaty
TRANSP:OPAQUE
URL:https://newcountry.nl/289-the-war-and-treaty-2/2026-07-06-19-00
END:VEVENT
END:VCALENDAR
