BEGIN:VCALENDAR
VERSION:2.0
PRODID:-//NewCountry.nl//NONSGML kigkonsult.se iCalcreator 2.30.10//
CALSCALE:GREGORIAN
METHOD:PUBLISH
UID:b8980af3-09e9-4735-8dcb-2f042af05bf9
X-WR-CALNAME:iCagenda
X-WR-CALDESC:Event Management Extension for Joomla!
X-WR-RELCALID:3E26604A-50F4-4449-8B3E-E4F4932D05B5
X-WR-TIMEZONE:UTC
BEGIN:VTIMEZONE
TZID:UTC
END:VTIMEZONE
BEGIN:VEVENT
UID:05a1bfca-8752-4c5c-8bb1-a968f8dafc4b
DTSTAMP:20260423T192325Z
CATEGORIES:Concertagenda
CLASS:PUBLIC
DESCRIPTION;ALTREP="CID:<FFFF__=0ABBE548DFE235B58f9e8a93d@coffeebean.com>":
 Ron Pope scoorde met zijn doorbraakhit ‘A Drop in the Ocean’ meer dan een 
 miljard streams op meerdere platforms.\nZijn productieve manier van muziek
  schrijven en maken past perfect bij de Americana-\, roots- en country gem
 eenschappen van “Music City” Nashville.\nMet elke release\, waaronder zijn
  meest recente album ‘American Man\, American Music’ (2025) blijft Ron Pop
 e zijn publiek boeien met zijn rauwe authenticiteit en diepgaande verhalen
 \, ontroerende melodieën en introspectieve teksten.\nNaast zijn eigen muzi
 kale activiteiten schrijft en produceert Ron Pope ook voor andere artieste
 n en fungeert hij als een inspiratiebron voor aspirant-muzikanten die hun 
 weg zoeken in het steeds veranderende muzieklandschap van vandaag de dag.
 \n\n&nbsp\;
DTSTART:20261106T193000Z
DTEND:20261106T193000Z
GEO:00;0
LOCATION:Doornroosje Nijmegen
ORGANIZER:
SEQUENCE:1
SUMMARY:Ron Pope
TRANSP:OPAQUE
URL:https://newcountry.nl/287-ron-pope-3/2026-11-06-19-30
END:VEVENT
END:VCALENDAR
