BEGIN:VCALENDAR
VERSION:2.0
PRODID:-//NewCountry.nl//NONSGML kigkonsult.se iCalcreator 2.30.10//
CALSCALE:GREGORIAN
METHOD:PUBLISH
UID:66157cc3-ecd8-4131-b9d2-d7840d7ddf40
X-WR-CALNAME:iCagenda
X-WR-CALDESC:Event Management Extension for Joomla!
X-WR-RELCALID:3E26604A-50F4-4449-8B3E-E4F4932D05B5
X-WR-TIMEZONE:UTC
BEGIN:VTIMEZONE
TZID:UTC
END:VTIMEZONE
BEGIN:VEVENT
UID:156e3e75-3d07-40a5-b756-dc994fd03ff2
DTSTAMP:20260423T163329Z
CATEGORIES:Concertagenda
CLASS:PUBLIC
DESCRIPTION;ALTREP="CID:<FFFF__=0ABBE548DFE235B58f9e8a93d@coffeebean.com>":
 ‘I’m a honky tonkin’ baby\, with a hardliner blues’\, zingt de Amerikaanse
  countryzangeres Hannah Juanita als eerste regel op haar nieuwe\, tweede a
 lbum Tennessee Songbird (2025).\nEen mooie omschrijving van haar (levens)s
 tijl\, want de muziek van Juanita neemt je dankzij het authentieke\, oldsk
 ool-geluid mee naar broeierige honky-tonks – dat haar stem een ongepolijst
 e versie is van die van Tammy Wynette\, helpt daarbij ook mee.\nHet tradit
 ionele instrumentarium (met veel pedal steel en fiddle) maakt de uptempo n
 ummers een genot\, maar op de ballads klinkt Juanita misschien nog wel bet
 er!\n\n\n&nbsp\;
DTSTART:20260827T193000Z
DTEND:20260827T193000Z
GEO:00;0
LOCATION:TivoliVredenburg
ORGANIZER:
SEQUENCE:1
SUMMARY:Hannah Juanita
TRANSP:OPAQUE
URL:https://newcountry.nl/286-hannah-juanita/2026-08-27-19-30
END:VEVENT
END:VCALENDAR
