BEGIN:VCALENDAR
VERSION:2.0
PRODID:-//NewCountry.nl//NONSGML kigkonsult.se iCalcreator 2.30.10//
CALSCALE:GREGORIAN
METHOD:PUBLISH
UID:09175a72-26bd-4842-8bc6-72e8d7751a19
X-WR-CALNAME:iCagenda
X-WR-CALDESC:Event Management Extension for Joomla!
X-WR-RELCALID:3E26604A-50F4-4449-8B3E-E4F4932D05B5
X-WR-TIMEZONE:UTC
BEGIN:VTIMEZONE
TZID:UTC
END:VTIMEZONE
BEGIN:VEVENT
UID:a6a55022-9864-40c8-adeb-f17899658486
DTSTAMP:20260423T194517Z
CATEGORIES:Concertagenda
CLASS:PUBLIC
DESCRIPTION;ALTREP="CID:<FFFF__=0ABBE548DFE235B58f9e8a93d@coffeebean.com>":
 Y’all ready\, Utrecht? Op 12 juni strijkt de Countrykoorts Honky Tonk Nigh
 t voor het eerst neer in Utrecht en dat doen ze in Texas-style. Denk aan: 
 stomende live countrymuziek\, warme Southern hospitality en de sfeer van e
 en Texaanse honky tonk\, midden in de stad. Met NATE KIPP\, RAMBLIN’ BOOTS
  en WAYLON!&nbsp\;\nSamen met TivoliVredenburg presenteert Countrykoorts d
 e enige echte Honky Tonk Night: een avond die al vijf edities lang bewijst
  dat country springlevend is in Nederland. En nu is Utrecht aan de beurt. 
 Trek je boots aan\, zet je hoed op en laat je meevoeren naar het hart van 
 Texas.\nCountrykoorts is dé countrypodcast van Nederland\, ontstaan uit pu
 re liefde voor het genre. Hosts Tom Meijers en Floris van der Woude nemen 
 je mee in de magie van countrymuziek en geven het podium aan een muzieksti
 jl die in Nederland veel te lang ondergewaardeerd is gebleven. Tijdens Cou
 ntrykoorts Honky Tonk Night: Texas Tivoli komt alles samen: muziek\, liefh
 ebbers en de rauwe energie van country zoals het bedoeld is!\n&nbsp\;
DTSTART:20260612T193000Z
DTEND:20260612T193000Z
GEO:00;0
LOCATION:TivoliVredenburg Utrecht:
ORGANIZER:
SEQUENCE:1
SUMMARY:Countrykoorts Honky Tonk Night
TRANSP:OPAQUE
URL:https://newcountry.nl/285-countrykoorts-honky-tonk-night/2026-06-12-19-
 30
END:VEVENT
END:VCALENDAR
