BEGIN:VCALENDAR
VERSION:2.0
PRODID:-//NewCountry.nl//NONSGML kigkonsult.se iCalcreator 2.30.10//
CALSCALE:GREGORIAN
METHOD:PUBLISH
UID:f86ef754-1ea9-476f-b3f4-43ebffbae89d
X-WR-CALNAME:iCagenda
X-WR-CALDESC:Event Management Extension for Joomla!
X-WR-RELCALID:3E26604A-50F4-4449-8B3E-E4F4932D05B5
X-WR-TIMEZONE:UTC
BEGIN:VTIMEZONE
TZID:UTC
END:VTIMEZONE
BEGIN:VEVENT
UID:5e2c9ae7-1c49-4f9f-a026-2a012a2267fd
DTSTAMP:20260423T145533Z
CATEGORIES:Concertagenda
CLASS:PUBLIC
DESCRIPTION;ALTREP="CID:<FFFF__=0ABBE548DFE235B58f9e8a93d@coffeebean.com>":
 Liam St. John beweegt zich op het snijvlak van blues en rock\, met indring
 ende teksten en meeslepende performances die beide genres eren. De in Spok
 ane geboren en in Nashville gevestigde artiest brak in 2022 wereldwijd doo
 r met zijn debuutalbum ‘stripped back’\, dat al gauw de eerste plek bereik
 te in de roots en blues-lijsten van Spotify en Apple Music.\nWat volgde wa
 s een succesvolle tour langs 67 Amerikaanse steden en voorprogramma’s voor
  onder anderen Jacob Banks en Lawrence Lothman. Met zijn doorleefde stemge
 luid en rauwe\, soulvolle uithalen\, geeft hij een eigentijdse draai aan b
 lues en rock\, zonder de essentie uit het oog te verliezen: muziek die raa
 kt\, schuurt en smeult.\n
DTSTART:20260611T193000Z
DTEND:20260611T193000Z
GEO:00;0
LOCATION:Bitterzoet
ORGANIZER:
SEQUENCE:1
SUMMARY:Liam St. John
TRANSP:OPAQUE
URL:https://newcountry.nl/284-liam-st-john/2026-06-11-19-30
END:VEVENT
END:VCALENDAR
