BEGIN:VCALENDAR
VERSION:2.0
PRODID:-//NewCountry.nl//NONSGML kigkonsult.se iCalcreator 2.30.10//
CALSCALE:GREGORIAN
METHOD:PUBLISH
UID:06231fa0-45bc-4416-9467-5465d211a378
X-WR-CALNAME:iCagenda
X-WR-CALDESC:Event Management Extension for Joomla!
X-WR-RELCALID:3E26604A-50F4-4449-8B3E-E4F4932D05B5
X-WR-TIMEZONE:UTC
BEGIN:VTIMEZONE
TZID:UTC
END:VTIMEZONE
BEGIN:VEVENT
UID:1ebbacf6-df96-4f27-b43c-e1bb17dc4fce
DTSTAMP:20260423T193540Z
CATEGORIES:Concertagenda
CLASS:PUBLIC
DESCRIPTION;ALTREP="CID:<FFFF__=0ABBE548DFE235B58f9e8a93d@coffeebean.com>":
 Traditionele country met de bravoure van vroege rock 'n roll Drake Milliga
 n combineert de klassieke countryklanken met de flair en charisma van de v
 roege rock-‘n-roll. Zijn kenmerkende warme baritonstem\, honky-tonk vibes 
 en zijn bravoure zorgen voor een eigentijdse en in your face-sound. Het za
 l je dan ook misschien weinig verbazen dat de rasentertainer grootheden al
 s George Strait en Elvis Presley tot zijn grote voorbeeld rekent.\nMet zij
 n nummer Sounds Like Something I’d Do wist Milligan met zijn band diepe in
 druk te maken tijdens America’s Got Talent. Het zorgde voor een nationale 
 doorbraak\, waarna hij al snel met het geprezen debuutalbum Dallas/Fort Wo
 rth kwam. Inmiddels zijn we meer dan 230 miljoen streams wereldwijd verder
  en is het tijd voor een nieuw hoofdstuk van de veelbelovende Texaanse cou
 ntry-hitmaker: Tumbleweed.\n\n&nbsp\;
DTSTART:20260917T200000Z
DTEND:20260917T200000Z
GEO:00;0
LOCATION:SPOT/De Oosterpoort
ORGANIZER:
SEQUENCE:1
SUMMARY:Drake Milligan
TRANSP:OPAQUE
URL:https://newcountry.nl/273-drake-milligan-3/2026-09-17-20-00
END:VEVENT
END:VCALENDAR
