BEGIN:VCALENDAR
VERSION:2.0
PRODID:-//NewCountry.nl//NONSGML kigkonsult.se iCalcreator 2.30.10//
CALSCALE:GREGORIAN
METHOD:PUBLISH
UID:ed39c1c2-de30-442c-8408-1cfe9f4c770e
X-WR-CALNAME:iCagenda
X-WR-CALDESC:Event Management Extension for Joomla!
X-WR-RELCALID:3E26604A-50F4-4449-8B3E-E4F4932D05B5
X-WR-TIMEZONE:UTC
BEGIN:VTIMEZONE
TZID:UTC
END:VTIMEZONE
BEGIN:VEVENT
UID:c10ff69d-0a4b-45a8-a035-b45950c5b597
DTSTAMP:20260423T194313Z
CATEGORIES:Concertagenda
CLASS:PUBLIC
DESCRIPTION;ALTREP="CID:<FFFF__=0ABBE548DFE235B58f9e8a93d@coffeebean.com>":
 HARDY Brengt Southern Rock naar de Melkweg Amsterdam\nMet zijn explosieve 
 mix van country en rock staat HARDY bekend als een van de meest vernieuwen
 de artiesten binnen het genre. Aankomende zomer maakt hij zijn opwachting 
 in de Melkweg Amsterdam\, waar fans zich mogen verheugen op een onvergetel
 ijke avond vol rauwe energie\, krachtige gitaren en onweerstaanbare southe
 rn vibes.\nHet laatste album&nbsp\;Quit!!&nbsp\;markeert HARDY’s opmars al
 s 'veelbelovende hoeder van de klassieke Southern rock-spirit.' Zijn muzie
 k slaat een brug tussen traditionele country en harde rock\, terwijl het o
 ok invloeden uit bro-country bevat\, een genre waarin hiphopbeats en elekt
 ronische klanken samenkomen met herkenbare thema’s als bier\, vrouwen en p
 ick-up trucks.\nDit optreden belooft een unieke ervaring te worden voor zo
 wel rock- als countryliefhebbers. Dus trek je cowboylaarzen aan en maak je
  klaar voor een zinderende avond in hartje Amsterdam.\nPraktische informat
 ie:\nLocatie:&nbsp\;Melkweg AmsterdamDatum:&nbsp\;Maandag 23 juni 2025Kaar
 tverkoop start vrijdag 14 februari om 10:00 uur klik&nbsp\;HIER\nZorg dat 
 je erbij bent en beleef HARDY’s southern spirit live!\n&nbsp\;\n\n&nbsp\;
 \n\n&nbsp\;
DTSTART:20250623T190000Z
DTEND:20250623T190000Z
GEO:00;0
LOCATION:Melkweg Amsterdam
ORGANIZER:
SEQUENCE:1
SUMMARY:HARDY
TRANSP:OPAQUE
URL:https://newcountry.nl/196-hardy/2025-06-23-19-00
END:VEVENT
END:VCALENDAR
