BEGIN:VCALENDAR
VERSION:2.0
PRODID:-//NewCountry.nl//NONSGML kigkonsult.se iCalcreator 2.30.10//
CALSCALE:GREGORIAN
METHOD:PUBLISH
UID:fc0cde65-7bab-4ceb-a161-2eaac2a67c82
X-WR-CALNAME:iCagenda
X-WR-CALDESC:Event Management Extension for Joomla!
X-WR-RELCALID:3E26604A-50F4-4449-8B3E-E4F4932D05B5
X-WR-TIMEZONE:UTC
BEGIN:VTIMEZONE
TZID:UTC
END:VTIMEZONE
BEGIN:VEVENT
UID:14c75462-3b85-4720-b08b-e519b40117b8
DTSTAMP:20260424T151207Z
CATEGORIES:Concertagenda
CLASS:PUBLIC
DESCRIPTION;ALTREP="CID:<FFFF__=0ABBE548DFE235B58f9e8a93d@coffeebean.com>":
 Shaboozey is een Amerikaanse muzikant\, zanger\, songwriter en producer. Z
 ijn unieke muzikale stijl slaat een brug tussen rap\, Americana en rock\, 
 wat hem zowel in de hiphop- als de countryscene populair maakt. Hij brak i
 n 2018 door met zijn nummer 'Start a Riot' met Duckwrth.\nEen jaar later b
 racht hij zijn debuutalbum 'Lady Wrangler' uit\, opgevolgd in oktober 2022
  door het album 'Cowboys Live Forever\, Outlaws Never Die'. In 2024 werkte
  hij samen met Beyoncé aan twee nummers voor haar succesalbum 'Cowboy Cart
 er' en scoorde hij een wereldhit met de single 'A Bar Song (Tipsy)'\, die 
 bovenaan de Billboard Hot 100 stond en in meerdere landen platina behaalde
 .\n&nbsp\;\nShaboozey - Highway\n\n&nbsp\;
DTSTART:20250311T190000Z
DTEND:20250311T190000Z
GEO:00;0
LOCATION:Paradiso Amsterdam
ORGANIZER:
SEQUENCE:1
SUMMARY:Shaboozey
TRANSP:OPAQUE
URL:https://newcountry.nl/175-shaboozey/2025-03-11-19-00
END:VEVENT
END:VCALENDAR
